BEGIN:VCALENDAR
VERSION:2.0
PRODID:-//wp-events-plugin.com//7.2.3.1//EN
TZID:Europe/Berlin
X-WR-TIMEZONE:Europe/Berlin
BEGIN:VEVENT
UID:14@tvaltluenen.de
DTSTART;TZID=Europe/Berlin:20240831T150000
DTEND;TZID=Europe/Berlin:20240831T200000
DTSTAMP:20240802T102041Z
URL:https://www.tvaltluenen.de/veranstaltungen/tva-jugend-nachmittag/
SUMMARY:TVA-Jugend-Nachmittag: Seid dabei!!
DESCRIPTION:\n\nLiebe TVA-Jugend\,\n\nam 31.08.2024 findet wieder ein Tenn
 is-Nachmittag exklusiv für Euch auf unserer Anlage am Vogelsberg statt. 
 Ab 15:00 Uhr wollen wir mit Euch Doppel\, Mixed\, Rundlauf und andere Spi
 el-Varianten rund um die gelbe Filzkugel wagen. Gegen 17:30 Uhr lädt Eu
 ch Euer Verein zu Pizza und kühlen Getränken ein. Anschließend lassen w
 ir den Abend in gemütlicher Atmosphäre ausklingen. Seid dabei und meldet
  Eure Teilnahme am Besten noch heute über Eure Mannschaftsführer oder Eu
 ren Jugendwart an.\n\nWir freuen uns auf Euch!\nEure Jugendabteilung des T
 VA
LOCATION:Tennisverein Altlünen 1956 e.V.\, Am Vogelsberg 65\, Lünen\, 445
 34\, Deutschland
X-APPLE-STRUCTURED-LOCATION;VALUE=URI;X-ADDRESS=Am Vogelsberg 65\, Lünen\,
  44534\, Deutschland;X-APPLE-RADIUS=100;X-TITLE=Tennisverein Altlünen 195
 6 e.V.:geo:0,0
END:VEVENT
BEGIN:VTIMEZONE
TZID:Europe/Berlin
X-LIC-LOCATION:Europe/Berlin
BEGIN:DAYLIGHT
DTSTART:20240331T030000
TZOFFSETFROM:+0100
TZOFFSETTO:+0200
TZNAME:CEST
END:DAYLIGHT
END:VTIMEZONE
END:VCALENDAR